BEGIN:VCALENDAR
VERSION:2.0
PRODID:-//VinoDrive - ECPv6.14.2//NONSGML v1.0//EN
CALSCALE:GREGORIAN
METHOD:PUBLISH
X-ORIGINAL-URL:https://www.vinodrive.de
X-WR-CALDESC:Veranstaltungen für VinoDrive
REFRESH-INTERVAL;VALUE=DURATION:PT1H
X-Robots-Tag:noindex
X-PUBLISHED-TTL:PT1H
BEGIN:VTIMEZONE
TZID:Europe/Berlin
BEGIN:DAYLIGHT
TZOFFSETFROM:+0100
TZOFFSETTO:+0200
TZNAME:CEST
DTSTART:20250330T010000
END:DAYLIGHT
BEGIN:STANDARD
TZOFFSETFROM:+0200
TZOFFSETTO:+0100
TZNAME:CET
DTSTART:20251026T010000
END:STANDARD
END:VTIMEZONE
BEGIN:VEVENT
DTSTART;TZID=Europe/Berlin:20251009T180000
DTEND;TZID=Europe/Berlin:20251009T220000
DTSTAMP:20260419T143624
CREATED:20250909T124405Z
LAST-MODIFIED:20250909T124921Z
UID:771-1760032800-1760047200@www.vinodrive.de
SUMMARY:After Work | Pizza Night
DESCRIPTION:Gönn dir den perfekten Ausklang deines Tages:\nDJ Nino Cavallo sorgt mit feinen Beats für die musikalische Begleitung – von entspannt bis tanzbar.\nDazu servieren wir ofenfrische\, napoletanische Pizza\, wie sie besser nicht aus dem Steinofen kommen könnte.
URL:https://www.vinodrive.de/event/after-work-pizza-night/
LOCATION:Marienhof\, Bachstraße 16\, Flemlingen\, 76835\, Germany
END:VEVENT
BEGIN:VEVENT
DTSTART;TZID=Europe/Berlin:20250911T180000
DTEND;TZID=Europe/Berlin:20250911T220000
DTSTAMP:20260419T143624
CREATED:20250729T081527Z
LAST-MODIFIED:20250909T124029Z
UID:639-1757613600-1757628000@www.vinodrive.de
SUMMARY:After Work | Mixed Music
DESCRIPTION:Nach der Arbeit ist vor dem Vergnügen: Bei unserem After Work erwarten dich Drinks\, kleine Köstlichkeiten und entspannte Vibes. \nDer perfekte Ort\, um mit Freunden oder Kollegen den Abend bei Mixed Music von DJ Nino Cavallo zu beginnen.
URL:https://www.vinodrive.de/event/after-work-3/
LOCATION:Marienhof\, Bachstraße 16\, Flemlingen\, 76835\, Germany
ATTACH;FMTTYPE=image/jpeg:https://www.vinodrive.de/wp-content/uploads/2025/08/IMG-20250722-WA0005.jpg
END:VEVENT
BEGIN:VEVENT
DTSTART;TZID=Europe/Berlin:20250821T170000
DTEND;TZID=Europe/Berlin:20250821T220000
DTSTAMP:20260419T143624
CREATED:20250729T074234Z
LAST-MODIFIED:20250818T112833Z
UID:633-1755795600-1755813600@www.vinodrive.de
SUMMARY:After Work House Night
DESCRIPTION:Der Arbeitstag ist vorbei – jetzt wird der Abend zelebriert.\nGenieße entspannte Stunden in unserer Sunset Lounge mit DJ Moo\, der dich mit feinstem Techhouse-Sound in den Abend begleitet.
URL:https://www.vinodrive.de/event/after-work-2/
LOCATION:Marienhof\, Bachstraße 16\, Flemlingen\, 76835\, Germany
ATTACH;FMTTYPE=image/jpeg:https://www.vinodrive.de/wp-content/uploads/2025/08/IMG-20250722-WA0005.jpg
END:VEVENT
BEGIN:VEVENT
DTSTART;TZID=Europe/Berlin:20250807T180000
DTEND;TZID=Europe/Berlin:20250807T220000
DTSTAMP:20260419T143624
CREATED:20250728T134525Z
LAST-MODIFIED:20250804T143257Z
UID:616-1754589600-1754604000@www.vinodrive.de
SUMMARY:80s/90s After Work
DESCRIPTION:Feier den Feierabend mit Stil.\nDich erwarten entspannte Beats\, gute Gespräche\, ausgesuchte Weine und kleine Köstlichkeiten zum Teilen. \nKomm vorbei\, schnapp dir ein Glas und genieß den Sonnenuntergang in bester Gesellschaft. \nBegleitet von den besten Songs der 80er & 90er – live gemixt von DJ Nino Cavallo.
URL:https://www.vinodrive.de/event/after-work/
LOCATION:Marienhof\, Bachstraße 16\, Flemlingen\, 76835\, Germany
ATTACH;FMTTYPE=image/png:https://www.vinodrive.de/wp-content/uploads/2025/07/IMG-20250722-WA0005.png
END:VEVENT
END:VCALENDAR